BEGIN:VCALENDAR
VERSION:2.0
PRODID:-//SafflowerClinic.com.au - ECPv5.3.1//NONSGML v1.0//EN
CALSCALE:GREGORIAN
METHOD:PUBLISH
X-WR-CALNAME:SafflowerClinic.com.au
X-ORIGINAL-URL:https://safflowerclinic.com.au
X-WR-CALDESC:Events for SafflowerClinic.com.au
BEGIN:VTIMEZONE
TZID:UTC
BEGIN:STANDARD
TZOFFSETFROM:+0000
TZOFFSETTO:+0000
TZNAME:UTC
DTSTART:20180101T000000
END:STANDARD
END:VTIMEZONE
BEGIN:VEVENT
DTSTART;TZID=UTC:20180503T180000
DTEND;TZID=UTC:20180503T191500
DTSTAMP:20210228T113732
CREATED:20180328T175636Z
LAST-MODIFIED:20180405T022554Z
UID:1731-1525370400-1525374900@safflowerclinic.com.au
SUMMARY:Chinese Herbal Medicine And Their Role In The Treatment Of Mental And Emotional Illness
DESCRIPTION:One in five Australians aged 16-85 experience a mental illness in any year. 54% do not access any treatment and the proportion of with mental illness accessing treatment is half that of people with physical disorders. This means\, that there are a lot of individuals with mental anguish not receiving any treatment\, perhaps not even disclosing of their problems. \nIn this public talk\, we will be exploring Chinese medicine modalities such as acupuncture and Chinese herbal medicine and their role in the treatment of mental and emotional illness. Acupuncture is particularly effective in re-establishing harmony and balance when it comes to emotional upsets. \nWe are lucky to also have Alicia Moltzen (Mind Your Health Hypnotherapy) joining us. “There is research to suggest the two modalities work extremely well together to strengthen the patient’s response to whatever issue they are experiencing”\, says Alicia. \nYou will experience a live demonstration of Hypnotherapy (in a safe group setting). And if you are up for it\, we would like to show you how one simple needle (of acupuncture) can make a big difference to how you feel. \nWe can’t wait to explore this very important topic with you\, book your seat now. It’s free!
URL:https://safflowerclinic.com.au/event/chinese-herbal-medicine-and-their-role-in-the-treatment-of-mental-and-emotional-illness/
LOCATION:Safflower Clinic\, 10 Bluebird Court\, Newhaven\, Newhaven\, VIC\, 3925\, Australia
END:VEVENT
END:VCALENDAR