BEGIN:VCALENDAR
VERSION:2.0
PRODID:-//SafflowerClinic.com.au - ECPv5.3.1//NONSGML v1.0//EN
CALSCALE:GREGORIAN
METHOD:PUBLISH
X-WR-CALNAME:SafflowerClinic.com.au
X-ORIGINAL-URL:https://safflowerclinic.com.au
X-WR-CALDESC:Events for SafflowerClinic.com.au
BEGIN:VTIMEZONE
TZID:UTC
BEGIN:STANDARD
TZOFFSETFROM:+0000
TZOFFSETTO:+0000
TZNAME:UTC
DTSTART:20180101T000000
END:STANDARD
END:VTIMEZONE
BEGIN:VEVENT
DTSTART;TZID=UTC:20180905T180000
DTEND;TZID=UTC:20180905T191500
DTSTAMP:20210228T110659
CREATED:20180808T194542Z
LAST-MODIFIED:20180808T195204Z
UID:1947-1536170400-1536174900@safflowerclinic.com.au
SUMMARY:Women’s Health: Periods\, Babies and Menopause
DESCRIPTION:Women’s Health: Periods\, Babies and Menopause  \nAs part of the Women’s health week and due to popular demand\, Safflower would like to invite women at all ages and stages of life to join us for an information session to celebrate womanhood. We must inspire you with Eastern traditions and philosophies and cover natural medicine approaches to improve the health of the female reproductive system!  \nWe start the journey at the onset of menstruation (menarche) and the drastic physiological changes that occur. As we enter our most fertile years\, undergo pregnancy (sometimes repeatedly) to end up in the peri menopausal state. This is the start of the change of life\, literally and many women ‘suffer’ from physical and mental symptoms that accompany it. \n  \nWe would love to share how we regard:  \n\nThe menstrual cycle\nthe pregnant body & labour\nmenopause\n\nYour take home message will be to have a better understanding of the female physiology and be equipped with holistic ideas and strategies to combat some of the common problems experienced in the various stages of womanhood in the 21st century. \nWe would love to have you there so together\, we can rejoice womenfolk and health at the same time. Let us know if you have any questions before the event.  \nRSVP online Now.
URL:https://safflowerclinic.com.au/event/womens-health-periods-babies-and-menopause/
LOCATION:Safflower Clinic\, 10 Bluebird Court\, Newhaven\, Newhaven\, VIC\, 3925\, Australia
ATTACH;FMTTYPE=image/jpeg:https://safflowerclinic.com.au/wp-content/uploads/2018/05/B97626333Z.120161115133809000GIKF9G4N.11.jpg
END:VEVENT
END:VCALENDAR